Package: TrajectoryGeometry Version: 1.12.1 Command: rm -rf TrajectoryGeometry.buildbin-libdir && mkdir TrajectoryGeometry.buildbin-libdir && /Users/biocbuild/BBS/utils/build-universal.sh TrajectoryGeometry_1.12.1.tar.gz /Library/Frameworks/R.framework/Resources/bin/R TrajectoryGeometry.buildbin-libdir StartedAt: 2024-10-17 17:22:36 -0400 (Thu, 17 Oct 2024) EndedAt: 2024-10-17 17:22:50 -0400 (Thu, 17 Oct 2024) EllapsedTime: 14.2 seconds RetCode: 0 Status: OK PackageFile: TrajectoryGeometry_1.12.1.tgz PackageFileSize: 1.365 MiB