Package: TrajectoryGeometry Version: 1.12.0 Command: /Library/Frameworks/R.framework/Resources/bin/R CMD INSTALL TrajectoryGeometry StartedAt: 2024-06-09 15:17:51 -0400 (Sun, 09 Jun 2024) EndedAt: 2024-06-09 15:17:59 -0400 (Sun, 09 Jun 2024) EllapsedTime: 7.3 seconds RetCode: 0 Status: OK