Package: TrajectoryGeometry Version: 1.12.0 Command: /Library/Frameworks/R.framework/Resources/bin/R CMD check --install=check:TrajectoryGeometry.install-out.txt --library=/Library/Frameworks/R.framework/Resources/library --no-vignettes --timings TrajectoryGeometry_1.12.0.tar.gz StartedAt: 2024-06-09 23:36:49 -0400 (Sun, 09 Jun 2024) EndedAt: 2024-06-09 23:38:07 -0400 (Sun, 09 Jun 2024) EllapsedTime: 77.8 seconds RetCode: 0 Status: OK CheckDir: TrajectoryGeometry.Rcheck Warnings: 0