Package: TrajectoryGeometry Version: 1.12.0 Command: /Library/Frameworks/R.framework/Resources/bin/R CMD build --keep-empty-dirs --no-resave-data TrajectoryGeometry StartedAt: 2024-06-09 18:27:34 -0400 (Sun, 09 Jun 2024) EndedAt: 2024-06-09 18:31:50 -0400 (Sun, 09 Jun 2024) EllapsedTime: 256.1 seconds RetCode: 0 Status: OK PackageFile: TrajectoryGeometry_1.12.0.tar.gz PackageFileSize: 1.894 MiB