Package: TrajectoryGeometry Version: 1.12.0 Command: /Library/Frameworks/R.framework/Resources/bin/R CMD build --keep-empty-dirs --no-resave-data TrajectoryGeometry StartedAt: 2024-06-10 06:04:59 -0400 (Mon, 10 Jun 2024) EndedAt: 2024-06-10 06:10:28 -0400 (Mon, 10 Jun 2024) EllapsedTime: 328.9 seconds RetCode: 0 Status: OK PackageFile: TrajectoryGeometry_1.12.0.tar.gz PackageFileSize: 1.894 MiB