Package: TrajectoryGeometry Version: 1.12.0 Command: rm -rf TrajectoryGeometry.buildbin-libdir && mkdir TrajectoryGeometry.buildbin-libdir && /Users/biocbuild/BBS/utils/build-universal.sh TrajectoryGeometry_1.12.0.tar.gz /Library/Frameworks/R.framework/Resources/bin/R TrajectoryGeometry.buildbin-libdir StartedAt: 2024-06-11 13:35:18 -0400 (Tue, 11 Jun 2024) EndedAt: 2024-06-11 13:35:30 -0400 (Tue, 11 Jun 2024) EllapsedTime: 12.1 seconds RetCode: 0 Status: OK PackageFile: TrajectoryGeometry_1.12.0.tgz PackageFileSize: 1.365 MiB