Package: TrajectoryGeometry Version: 1.12.1 Command: /Library/Frameworks/R.framework/Resources/bin/R CMD INSTALL TrajectoryGeometry StartedAt: 2024-10-16 17:13:06 -0400 (Wed, 16 Oct 2024) EndedAt: 2024-10-16 17:13:12 -0400 (Wed, 16 Oct 2024) EllapsedTime: 5.8 seconds RetCode: 0 Status: OK