Package: TrajectoryGeometry Version: 1.12.1 Command: /Library/Frameworks/R.framework/Resources/bin/R CMD check --install=check:TrajectoryGeometry.install-out.txt --library=/Library/Frameworks/R.framework/Resources/library --no-vignettes --timings TrajectoryGeometry_1.12.1.tar.gz StartedAt: 2024-10-18 15:33:23 -0400 (Fri, 18 Oct 2024) EndedAt: 2024-10-18 15:34:47 -0400 (Fri, 18 Oct 2024) EllapsedTime: 83.7 seconds RetCode: 0 Status: OK CheckDir: TrajectoryGeometry.Rcheck Warnings: 0