Package: TrajectoryGeometry Version: 1.12.1 Maintainer: Michael Shapiro MaintainerEmail: michael.shapiro at crick.ac.uk git_url: https://git.bioconductor.org/packages/TrajectoryGeometry git_branch: RELEASE_3_19 git_last_commit: 94ffce6 git_last_commit_date: 2024-10-15 08:17:40 -0400 (Tue, 15 Oct 2024)