Package: ToxicoGx Version: 2.8.0 Command: E:\biocbuild\bbs-3.19-bioc\R\bin\R.exe CMD check --no-multiarch --install=check:ToxicoGx.install-out.txt --library=E:\biocbuild\bbs-3.19-bioc\R\library --no-vignettes --timings ToxicoGx_2.8.0.tar.gz StartedAt: 2024-10-17 06:35:19 -0400 (Thu, 17 Oct 2024) EndedAt: 2024-10-17 06:40:33 -0400 (Thu, 17 Oct 2024) EllapsedTime: 313.2 seconds RetCode: 0 Status: OK CheckDir: ToxicoGx.Rcheck Warnings: 0