Package: ToxicoGx Version: 2.8.0 Command: chmod a+r ToxicoGx -R && E:\biocbuild\bbs-3.19-bioc\R\bin\R.exe CMD build --keep-empty-dirs --no-resave-data ToxicoGx StartedAt: 2024-10-16 22:22:48 -0400 (Wed, 16 Oct 2024) EndedAt: 2024-10-16 22:24:04 -0400 (Wed, 16 Oct 2024) EllapsedTime: 75.3 seconds RetCode: 0 Status: OK PackageFile: ToxicoGx_2.8.0.tar.gz PackageFileSize: 3.9 MiB