Package: ToxicoGx Version: 2.8.0 Command: /home/biocbuild/bbs-3.19-bioc/R/bin/R CMD check --install=check:ToxicoGx.install-out.txt --library=/home/biocbuild/bbs-3.19-bioc/R/site-library --timings ToxicoGx_2.8.0.tar.gz StartedAt: 2024-10-17 05:57:44 -0400 (Thu, 17 Oct 2024) EndedAt: 2024-10-17 06:02:14 -0400 (Thu, 17 Oct 2024) EllapsedTime: 269.4 seconds RetCode: 0 Status: OK CheckDir: ToxicoGx.Rcheck Warnings: 0