Package: ToxicoGx Version: 2.8.0 Command: /Library/Frameworks/R.framework/Resources/bin/R CMD INSTALL ToxicoGx StartedAt: 2024-06-09 15:33:31 -0400 (Sun, 09 Jun 2024) EndedAt: 2024-06-09 15:34:19 -0400 (Sun, 09 Jun 2024) EllapsedTime: 47.7 seconds RetCode: 0 Status: OK