Package: ToxicoGx Version: 2.8.0 Command: /Library/Frameworks/R.framework/Resources/bin/R CMD build --keep-empty-dirs --no-resave-data ToxicoGx StartedAt: 2024-06-09 18:27:08 -0400 (Sun, 09 Jun 2024) EndedAt: 2024-06-09 18:28:02 -0400 (Sun, 09 Jun 2024) EllapsedTime: 54.4 seconds RetCode: 0 Status: OK PackageFile: ToxicoGx_2.8.0.tar.gz PackageFileSize: 3.936 MiB