Package: ToxicoGx Version: 2.8.0 Command: /home/biocbuild/R/R-beta-2024-04-15_r86425/bin/R CMD build --keep-empty-dirs --no-resave-data ToxicoGx StartedAt: 2024-05-09 04:09:28 -0000 (Thu, 09 May 2024) EndedAt: 2024-05-09 04:10:38 -0000 (Thu, 09 May 2024) EllapsedTime: 69.1 seconds RetCode: 0 Status: OK PackageFile: ToxicoGx_2.8.0.tar.gz PackageFileSize: 3.907 MiB