Package: ToxicoGx Version: 2.8.0 Command: rm -rf ToxicoGx.buildbin-libdir && mkdir ToxicoGx.buildbin-libdir && /Users/biocbuild/BBS/utils/build-universal.sh ToxicoGx_2.8.0.tar.gz /Library/Frameworks/R.framework/Resources/bin/R ToxicoGx.buildbin-libdir StartedAt: 2024-06-11 13:34:41 -0400 (Tue, 11 Jun 2024) EndedAt: 2024-06-11 13:35:50 -0400 (Tue, 11 Jun 2024) EllapsedTime: 69.1 seconds RetCode: 0 Status: OK PackageFile: ToxicoGx_2.8.0.tgz PackageFileSize: 4.418 MiB