Package: ToxicoGx Version: 2.8.0 Command: /Library/Frameworks/R.framework/Resources/bin/R CMD INSTALL ToxicoGx StartedAt: 2024-10-16 18:00:31 -0400 (Wed, 16 Oct 2024) EndedAt: 2024-10-16 18:01:15 -0400 (Wed, 16 Oct 2024) EllapsedTime: 44.0 seconds RetCode: 0 Status: OK