Package: ToxicoGx Version: 2.8.0 Command: rm -rf ToxicoGx.buildbin-libdir && mkdir ToxicoGx.buildbin-libdir && /Users/biocbuild/BBS/utils/build-universal.sh ToxicoGx_2.8.0.tar.gz /Library/Frameworks/R.framework/Resources/bin/R ToxicoGx.buildbin-libdir StartedAt: 2024-10-15 20:39:52 -0400 (Tue, 15 Oct 2024) EndedAt: 2024-10-15 20:40:47 -0400 (Tue, 15 Oct 2024) EllapsedTime: 54.5 seconds RetCode: 0 Status: OK PackageFile: ToxicoGx_2.8.0.tgz PackageFileSize: 4.415 MiB