Package: TnT Version: 1.26.3 Command: E:\biocbuild\bbs-3.19-bioc\R\bin\R.exe CMD INSTALL TnT StartedAt: 2024-10-16 16:38:51 -0400 (Wed, 16 Oct 2024) EndedAt: 2024-10-16 16:39:18 -0400 (Wed, 16 Oct 2024) EllapsedTime: 27.7 seconds RetCode: 0 Status: OK