Package: TnT Version: 1.26.3 Command: E:\biocbuild\bbs-3.19-bioc\R\bin\R.exe CMD check --no-multiarch --install=check:TnT.install-out.txt --library=E:\biocbuild\bbs-3.19-bioc\R\library --no-vignettes --timings TnT_1.26.3.tar.gz StartedAt: 2024-10-17 06:33:40 -0400 (Thu, 17 Oct 2024) EndedAt: 2024-10-17 06:35:35 -0400 (Thu, 17 Oct 2024) EllapsedTime: 114.3 seconds RetCode: 0 Status: OK CheckDir: TnT.Rcheck Warnings: 0