Package: TnT Version: 1.26.3 Command: chmod a+r TnT -R && E:\biocbuild\bbs-3.19-bioc\R\bin\R.exe CMD build --keep-empty-dirs --no-resave-data TnT StartedAt: 2024-10-16 22:22:10 -0400 (Wed, 16 Oct 2024) EndedAt: 2024-10-16 22:22:43 -0400 (Wed, 16 Oct 2024) EllapsedTime: 33.2 seconds RetCode: 0 Status: OK PackageFile: TnT_1.26.3.tar.gz PackageFileSize: 230.9 KiB