Package: TnT Version: 1.26.3 Command: rm -rf TnT.buildbin-libdir && mkdir TnT.buildbin-libdir && E:\biocbuild\bbs-3.19-bioc\R\bin\R.exe CMD INSTALL --build --library=TnT.buildbin-libdir TnT_1.26.3.tar.gz StartedAt: 2024-10-17 08:47:30 -0400 (Thu, 17 Oct 2024) EndedAt: 2024-10-17 08:48:01 -0400 (Thu, 17 Oct 2024) EllapsedTime: 30.3 seconds RetCode: 0 Status: OK PackageFile: TnT_1.26.3.zip PackageFileSize: 531.4 KiB