Package: TnT Version: 1.26.0 Command: F:\biocbuild\bbs-3.19-bioc\R\bin\R.exe CMD INSTALL TnT StartedAt: 2024-06-26 16:15:38 -0400 (Wed, 26 Jun 2024) EndedAt: 2024-06-26 16:16:02 -0400 (Wed, 26 Jun 2024) EllapsedTime: 24.0 seconds RetCode: 0 Status: OK