Package: TnT Version: 1.26.0 Command: F:\biocbuild\bbs-3.19-bioc\R\bin\R.exe CMD check --no-multiarch --install=check:TnT.install-out.txt --library=F:\biocbuild\bbs-3.19-bioc\R\library --no-vignettes --timings TnT_1.26.0.tar.gz StartedAt: 2024-06-27 07:01:06 -0400 (Thu, 27 Jun 2024) EndedAt: 2024-06-27 07:03:05 -0400 (Thu, 27 Jun 2024) EllapsedTime: 118.7 seconds RetCode: 1 Status: ERROR CheckDir: TnT.Rcheck Warnings: NA