Package: TnT Version: 1.26.0 Command: chmod a+r TnT -R && F:\biocbuild\bbs-3.19-bioc\R\bin\R.exe CMD build --keep-empty-dirs --no-resave-data TnT StartedAt: 2024-06-26 22:24:02 -0400 (Wed, 26 Jun 2024) EndedAt: 2024-06-26 22:24:33 -0400 (Wed, 26 Jun 2024) EllapsedTime: 30.3 seconds RetCode: 0 Status: OK PackageFile: TnT_1.26.0.tar.gz PackageFileSize: 231 KiB