Package: TnT Version: 1.26.0 Command: rm -rf TnT.buildbin-libdir && mkdir TnT.buildbin-libdir && F:\biocbuild\bbs-3.19-bioc\R\bin\R.exe CMD INSTALL --build --library=TnT.buildbin-libdir TnT_1.26.0.tar.gz StartedAt: 2024-06-27 09:03:11 -0400 (Thu, 27 Jun 2024) EndedAt: 2024-06-27 09:03:51 -0400 (Thu, 27 Jun 2024) EllapsedTime: 40.6 seconds RetCode: 0 Status: OK PackageFile: TnT_1.26.0.zip PackageFileSize: 532.2 KiB