Package: TnT Version: 1.26.3 Command: /Library/Frameworks/R.framework/Resources/bin/R CMD INSTALL TnT StartedAt: 2024-10-16 15:57:02 -0400 (Wed, 16 Oct 2024) EndedAt: 2024-10-16 15:57:36 -0400 (Wed, 16 Oct 2024) EllapsedTime: 33.9 seconds RetCode: 0 Status: OK