Package: TnT Version: 1.26.0 Command: rm -rf TnT.buildbin-libdir && mkdir TnT.buildbin-libdir && /Users/biocbuild/BBS/utils/build-universal.sh TnT_1.26.0.tar.gz /Library/Frameworks/R.framework/Resources/bin/R TnT.buildbin-libdir StartedAt: 2024-06-10 00:43:58 -0400 (Mon, 10 Jun 2024) EndedAt: 2024-06-10 00:44:20 -0400 (Mon, 10 Jun 2024) EllapsedTime: 21.8 seconds RetCode: 0 Status: OK PackageFile: TnT_1.26.0.tgz PackageFileSize: 530.4 KiB