Package: TnT Version: 1.26.0 Command: /home/biocbuild/R/R-beta-2024-04-15_r86425/bin/R CMD check --install=check:TnT.install-out.txt --library=/home/biocbuild/R/R-beta-2024-04-15_r86425/site-library --no-vignettes --timings TnT_1.26.0.tar.gz StartedAt: 2024-05-08 12:46:11 -0000 (Wed, 08 May 2024) EndedAt: 2024-05-08 12:48:11 -0000 (Wed, 08 May 2024) EllapsedTime: 120.3 seconds RetCode: 1 Status: ERROR CheckDir: TnT.Rcheck Warnings: NA