Package: TnT Version: 1.26.0 Command: /home/biocbuild/R/R-beta-2024-04-15_r86425/bin/R CMD build --keep-empty-dirs --no-resave-data TnT StartedAt: 2024-05-09 04:08:40 -0000 (Thu, 09 May 2024) EndedAt: 2024-05-09 04:09:08 -0000 (Thu, 09 May 2024) EllapsedTime: 28.0 seconds RetCode: 0 Status: OK PackageFile: TnT_1.26.0.tar.gz PackageFileSize: 273.6 KiB