Package: TnT Version: 1.26.0 Command: rm -rf TnT.buildbin-libdir && mkdir TnT.buildbin-libdir && /Users/biocbuild/BBS/utils/build-universal.sh TnT_1.26.0.tar.gz /Library/Frameworks/R.framework/Resources/bin/R TnT.buildbin-libdir StartedAt: 2024-06-11 13:33:56 -0400 (Tue, 11 Jun 2024) EndedAt: 2024-06-11 13:34:22 -0400 (Tue, 11 Jun 2024) EllapsedTime: 26.4 seconds RetCode: 0 Status: OK PackageFile: TnT_1.26.0.tgz PackageFileSize: 530.5 KiB