Package: TnT Version: 1.26.3 Maintainer: Jialin Ma MaintainerEmail: marlin- at gmx.cn git_url: https://git.bioconductor.org/packages/TnT git_branch: RELEASE_3_19 git_last_commit: 9063600 git_last_commit_date: 2024-09-23 08:50:47 -0400 (Mon, 23 Sep 2024)