Package: TitanCNA Version: 1.42.0 Command: rm -rf TitanCNA.buildbin-libdir && mkdir TitanCNA.buildbin-libdir && E:\biocbuild\bbs-3.19-bioc\R\bin\R.exe CMD INSTALL --build --library=TitanCNA.buildbin-libdir TitanCNA_1.42.0.tar.gz StartedAt: 2024-10-17 08:47:15 -0400 (Thu, 17 Oct 2024) EndedAt: 2024-10-17 08:48:14 -0400 (Thu, 17 Oct 2024) EllapsedTime: 59.9 seconds RetCode: 0 Status: OK PackageFile: TitanCNA_1.42.0.zip PackageFileSize: 3.857 MiB