Package: TitanCNA Version: 1.42.0 Command: /home/biocbuild/bbs-3.19-bioc/R/bin/R CMD build --keep-empty-dirs --no-resave-data TitanCNA StartedAt: 2024-10-16 21:11:32 -0400 (Wed, 16 Oct 2024) EndedAt: 2024-10-16 21:13:00 -0400 (Wed, 16 Oct 2024) EllapsedTime: 87.2 seconds RetCode: 0 Status: OK PackageFile: TitanCNA_1.42.0.tar.gz PackageFileSize: 3.686 MiB