Package: TitanCNA Version: 1.42.0 Command: /Library/Frameworks/R.framework/Resources/bin/R CMD build --keep-empty-dirs --no-resave-data TitanCNA StartedAt: 2024-10-17 00:00:16 -0400 (Thu, 17 Oct 2024) EndedAt: 2024-10-17 00:03:36 -0400 (Thu, 17 Oct 2024) EllapsedTime: 200.2 seconds RetCode: 0 Status: OK PackageFile: TitanCNA_1.42.0.tar.gz PackageFileSize: 3.924 MiB