Package: TitanCNA Version: 1.42.0 Command: /home/biocbuild/R/R-beta-2024-04-15_r86425/bin/R CMD INSTALL TitanCNA StartedAt: 2024-05-08 20:31:39 -0000 (Wed, 08 May 2024) EndedAt: 2024-05-08 20:32:41 -0000 (Wed, 08 May 2024) EllapsedTime: 62.3 seconds RetCode: 0 Status: OK