Package: TitanCNA Version: 1.42.0 Command: /home/biocbuild/R/R-beta-2024-04-15_r86425/bin/R CMD build --keep-empty-dirs --no-resave-data TitanCNA StartedAt: 2024-05-09 04:08:15 -0000 (Thu, 09 May 2024) EndedAt: 2024-05-09 04:10:08 -0000 (Thu, 09 May 2024) EllapsedTime: 113.2 seconds RetCode: 0 Status: OK PackageFile: TitanCNA_1.42.0.tar.gz PackageFileSize: 3.793 MiB