Package: TitanCNA Version: 1.42.0 Command: rm -rf TitanCNA.buildbin-libdir && mkdir TitanCNA.buildbin-libdir && /Users/biocbuild/BBS/utils/build-universal.sh TitanCNA_1.42.0.tar.gz /Library/Frameworks/R.framework/Resources/bin/R TitanCNA.buildbin-libdir StartedAt: 2024-06-11 13:33:51 -0400 (Tue, 11 Jun 2024) EndedAt: 2024-06-11 13:35:18 -0400 (Tue, 11 Jun 2024) EllapsedTime: 86.3 seconds RetCode: 0 Status: OK PackageFile: TitanCNA_1.42.0.tgz PackageFileSize: 4.214 MiB