Package: TitanCNA Version: 1.42.0 Command: rm -rf TitanCNA.buildbin-libdir && mkdir TitanCNA.buildbin-libdir && /Users/biocbuild/BBS/utils/build-universal.sh TitanCNA_1.42.0.tar.gz /Library/Frameworks/R.framework/Resources/bin/R TitanCNA.buildbin-libdir StartedAt: 2024-10-15 20:38:43 -0400 (Tue, 15 Oct 2024) EndedAt: 2024-10-15 20:39:47 -0400 (Tue, 15 Oct 2024) EllapsedTime: 63.7 seconds RetCode: 0 Status: OK PackageFile: TitanCNA_1.42.0.tgz PackageFileSize: 4.214 MiB