Package: TissueEnrich Version: 1.24.1 Command: E:\biocbuild\bbs-3.19-bioc\R\bin\R.exe CMD check --no-multiarch --install=check:TissueEnrich.install-out.txt --library=E:\biocbuild\bbs-3.19-bioc\R\library --no-vignettes --timings TissueEnrich_1.24.1.tar.gz StartedAt: 2024-10-17 06:32:16 -0400 (Thu, 17 Oct 2024) EndedAt: 2024-10-17 06:36:05 -0400 (Thu, 17 Oct 2024) EllapsedTime: 228.8 seconds RetCode: 0 Status: OK CheckDir: TissueEnrich.Rcheck Warnings: 0