Package: TissueEnrich Version: 1.24.1 Command: F:\biocbuild\bbs-3.19-bioc\R\bin\R.exe CMD check --no-multiarch --install=check:TissueEnrich.install-out.txt --library=F:\biocbuild\bbs-3.19-bioc\R\library --no-vignettes --timings TissueEnrich_1.24.1.tar.gz StartedAt: 2024-06-27 06:59:32 -0400 (Thu, 27 Jun 2024) EndedAt: 2024-06-27 07:03:36 -0400 (Thu, 27 Jun 2024) EllapsedTime: 244.0 seconds RetCode: 0 Status: OK CheckDir: TissueEnrich.Rcheck Warnings: 0