Package: TissueEnrich Version: 1.24.1 Command: chmod a+r TissueEnrich -R && F:\biocbuild\bbs-3.19-bioc\R\bin\R.exe CMD build --keep-empty-dirs --no-resave-data TissueEnrich StartedAt: 2024-06-26 22:23:38 -0400 (Wed, 26 Jun 2024) EndedAt: 2024-06-26 22:24:42 -0400 (Wed, 26 Jun 2024) EllapsedTime: 63.4 seconds RetCode: 0 Status: OK PackageFile: TissueEnrich_1.24.1.tar.gz PackageFileSize: 3.338 MiB