Package: TissueEnrich Version: 1.24.1 Command: rm -rf TissueEnrich.buildbin-libdir && mkdir TissueEnrich.buildbin-libdir && F:\biocbuild\bbs-3.19-bioc\R\bin\R.exe CMD INSTALL --build --library=TissueEnrich.buildbin-libdir TissueEnrich_1.24.1.tar.gz StartedAt: 2024-06-27 09:03:00 -0400 (Thu, 27 Jun 2024) EndedAt: 2024-06-27 09:03:44 -0400 (Thu, 27 Jun 2024) EllapsedTime: 44.0 seconds RetCode: 0 Status: OK PackageFile: TissueEnrich_1.24.1.zip PackageFileSize: 3.363 MiB