Package: TissueEnrich Version: 1.24.1 Command: /home/biocbuild/bbs-3.19-bioc/R/bin/R CMD INSTALL TissueEnrich StartedAt: 2024-10-16 16:06:10 -0400 (Wed, 16 Oct 2024) EndedAt: 2024-10-16 16:06:38 -0400 (Wed, 16 Oct 2024) EllapsedTime: 28.2 seconds RetCode: 0 Status: OK