Package: TissueEnrich Version: 1.24.1 Command: /home/biocbuild/bbs-3.19-bioc/R/bin/R CMD build --keep-empty-dirs --no-resave-data TissueEnrich StartedAt: 2024-10-16 21:11:30 -0400 (Wed, 16 Oct 2024) EndedAt: 2024-10-16 21:12:19 -0400 (Wed, 16 Oct 2024) EllapsedTime: 49.1 seconds RetCode: 0 Status: OK PackageFile: TissueEnrich_1.24.1.tar.gz PackageFileSize: 3.507 MiB