Package: TissueEnrich Version: 1.24.1 Command: /Library/Frameworks/R.framework/Resources/bin/R CMD check --install=check:TissueEnrich.install-out.txt --library=/Library/Frameworks/R.framework/Resources/library --no-vignettes --timings TissueEnrich_1.24.1.tar.gz StartedAt: 2024-06-09 23:34:13 -0400 (Sun, 09 Jun 2024) EndedAt: 2024-06-09 23:37:56 -0400 (Sun, 09 Jun 2024) EllapsedTime: 222.9 seconds RetCode: 0 Status: OK CheckDir: TissueEnrich.Rcheck Warnings: 0