Package: TissueEnrich Version: 1.24.1 Command: /Library/Frameworks/R.framework/Resources/bin/R CMD check --install=check:TissueEnrich.install-out.txt --library=/Library/Frameworks/R.framework/Resources/library --no-vignettes --timings TissueEnrich_1.24.1.tar.gz StartedAt: 2024-06-11 08:20:16 -0400 (Tue, 11 Jun 2024) EndedAt: 2024-06-11 08:25:47 -0400 (Tue, 11 Jun 2024) EllapsedTime: 331.5 seconds RetCode: 0 Status: OK CheckDir: TissueEnrich.Rcheck Warnings: 0