Package: TissueEnrich Version: 1.24.1 Command: /Library/Frameworks/R.framework/Resources/bin/R CMD build --keep-empty-dirs --no-resave-data TissueEnrich StartedAt: 2024-06-10 05:59:44 -0400 (Mon, 10 Jun 2024) EndedAt: 2024-06-10 06:00:52 -0400 (Mon, 10 Jun 2024) EllapsedTime: 67.8 seconds RetCode: 0 Status: OK PackageFile: TissueEnrich_1.24.1.tar.gz PackageFileSize: 3.607 MiB