Package: TissueEnrich Version: 1.24.1 Command: /Library/Frameworks/R.framework/Resources/bin/R CMD INSTALL TissueEnrich StartedAt: 2024-10-16 16:18:05 -0400 (Wed, 16 Oct 2024) EndedAt: 2024-10-16 16:18:39 -0400 (Wed, 16 Oct 2024) EllapsedTime: 33.7 seconds RetCode: 0 Status: OK