Package: TissueEnrich Version: 1.24.1 Maintainer: Ashish Jain MaintainerEmail: jain.ashishjain1 at gmail.com git_url: https://git.bioconductor.org/packages/TissueEnrich git_branch: RELEASE_3_19 git_last_commit: 9ff8f2e git_last_commit_date: 2024-05-09 13:50:58 -0400 (Thu, 09 May 2024)